BEGIN:VCALENDAR
VERSION:2.0
PRODID:-//Face Minima 2025 - ECPv6.9.0//NONSGML v1.0//EN
CALSCALE:GREGORIAN
METHOD:PUBLISH
X-WR-CALNAME:Face Minima 2025
X-ORIGINAL-URL:https://faceminima.com
X-WR-CALDESC:Face Minima 2025 için etkinlikler
REFRESH-INTERVAL;VALUE=DURATION:PT1H
X-Robots-Tag:noindex
X-PUBLISHED-TTL:PT1H
BEGIN:VTIMEZONE
TZID:UTC
BEGIN:STANDARD
TZOFFSETFROM:+0000
TZOFFSETTO:+0000
TZNAME:UTC
DTSTART:20250101T000000
END:STANDARD
END:VTIMEZONE
BEGIN:VEVENT
DTSTART;TZID=UTC:20250222T053000
DTEND;TZID=UTC:20250222T150000
DTSTAMP:20260421T114451
CREATED:20250121T105433Z
LAST-MODIFIED:20250124T165039Z
UID:4999-1740202200-1740236400@faceminima.com
SUMMARY:Sheraton Ankara Hotel & Convention Center ( Tulipia Meeting Hall ) - February 23
DESCRIPTION:SCIENTIFIC PROGRAM				\n				\n					\n				\n				\n						\n					\n			\n						\n				\n									\n\n\n    \n    \n    Conference Program – February 23\, 2025\n    \n\n\n\n    February 23\, 2025Sheraton Ankara Hotel & Convention Center (Tulipia Meeting Hall)\n\n    \n        \n            08:30 – 09:00\n            SPEECH\n        \n        \n            09:00 – 10:30\n            APPLIED PANEL – EYE CONTOURModerator: Dr. Altuğ Çetinkaya\n        \n        \n            09:00 – 09:30\n            APPLIED – VIDEO – DISCUSSIONDr. Havva Gül Yıldız\n        \n        \n            09:30 – 10:00\n            APPLIED – VIDEO – DISCUSSIONDr. Gökçe Özel\n        \n        \n            10:00 – 10:30\n            APPLIED – VIDEO – DISCUSSIONDr. Altuğ Çetinkaya\n        \n        \n            COFFEE BREAK\n        \n        \n            11:00 – 12:30\n            APPLIED PANEL — LOWER FACE AND JAWModerator: Dr. Betül Şahin\n        \n        \n            11:00 – 11:30\n            APPLIED – VIDEO – DISCUSSIONDr. Tevfik Sözen\n        \n        \n            11:30 – 12:00\n            APPLIED – VIDEO – DISCUSSIONDr. Betül Şahin\n        \n        \n            12:00 – 12:30\n            APPLIED – VIDEO – DISCUSSIONDr. Taşkın Yücel\n        \n        \n            LUNCH\n        \n        \n            13:30 – 15:00\n            MINOR SURGICAL APPLICATIONS ON THE FACE\n        \n        \n            13:30 – 14:00\n            Dr. Tevfik Sözen: LIP LIFT\n        \n        \n            14:00 – 14:30\n            Dr. Taşkın Yücel: BISHECTOMY\n        \n        \n            14:30 – 15:00\n            Dr. Betül Şahin: APPROACH TO SAGGING NECK IN OFFICE\n        \n        \n            COFFEE BREAK\n        \n        \n            15:30 – 16:00\n            RATIONAL DRUG USEDr. Gökçe Özel\n        \n    \n\n\n\n								\n				\n					\n		\n					\n		\n				\n						\n					\n			\n						\n						\n					\n			\n						\n				\n																														\n				\n					\n		\n				\n			\n						\n				\n					Adam Smith				\n				\n				\n				\n					Founder Envato				\n				\n				\n				\n					In this scenario\, you could see the total combined event count for all three categories in your reports. The Total Events metric displays all event counts for all categories that you have supplied in your implementation. However\, you will not be able to view combined metrics.
URL:https://faceminima.com/event/sheraton-ankara-hotel-convention-center-tulipia-meeting-hall-february-23/
LOCATION:Sheraton Ankara Hotel & Convention Center\, Ankara\, Turkey
CATEGORIES:Event Calendar
ATTACH;FMTTYPE=image/jpeg:https://faceminima.com/wp-content/uploads/2024/12/shrtn-06.jpg
END:VEVENT
BEGIN:VEVENT
DTSTART;TZID=UTC:20250222T053000
DTEND;TZID=UTC:20250222T150000
DTSTAMP:20260421T114451
CREATED:20250121T105104Z
LAST-MODIFIED:20250124T164913Z
UID:4994-1740202200-1740236400@faceminima.com
SUMMARY:Sheraton Ankara Hotel & Convention Center ( Tulipia Meeting Hall ) - February 22
DESCRIPTION:SCIENTIFIC PROGRAM				\n				\n					\n				\n				\n						\n					\n			\n						\n				\n									\n\n\n    \n    \n    Conference Program – February 23\, 2025\n    \n\n\n\n    February 23\, 2025Sheraton Ankara Hotel & Convention Center (Tulipia Meeting Hall)\n\n    \n        \n            08:30 – 09:00\n            SPEECH\n        \n        \n            09:00 – 10:30\n            APPLIED PANEL – EYE CONTOURModerator: Dr. Altuğ Çetinkaya\n        \n        \n            09:00 – 09:30\n            APPLIED – VIDEO – DISCUSSIONDr. Havva Gül Yıldız\n        \n        \n            09:30 – 10:00\n            APPLIED – VIDEO – DISCUSSIONDr. Gökçe Özel\n        \n        \n            10:00 – 10:30\n            APPLIED – VIDEO – DISCUSSIONDr. Altuğ Çetinkaya\n        \n        \n            COFFEE BREAK\n        \n        \n            11:00 – 12:30\n            APPLIED PANEL — LOWER FACE AND JAWModerator: Dr. Betül Şahin\n        \n        \n            11:00 – 11:30\n            APPLIED – VIDEO – DISCUSSIONDr. Tevfik Sözen\n        \n        \n            11:30 – 12:00\n            APPLIED – VIDEO – DISCUSSIONDr. Betül Şahin\n        \n        \n            12:00 – 12:30\n            APPLIED – VIDEO – DISCUSSIONDr. Taşkın Yücel\n        \n        \n            LUNCH\n        \n        \n            13:30 – 15:00\n            MINOR SURGICAL APPLICATIONS ON THE FACE\n        \n        \n            13:30 – 14:00\n            Dr. Tevfik Sözen: LIP LIFT\n        \n        \n            14:00 – 14:30\n            Dr. Taşkın Yücel: BISHECTOMY\n        \n        \n            14:30 – 15:00\n            Dr. Betül Şahin: APPROACH TO SAGGING NECK IN OFFICE\n        \n        \n            COFFEE BREAK\n        \n        \n            15:30 – 16:00\n            RATIONAL DRUG USEDr. Gökçe Özel\n        \n    \n\n\n\n								\n				\n					\n		\n					\n		\n				\n						\n					\n			\n						\n						\n					\n			\n						\n				\n																														\n				\n					\n		\n				\n			\n						\n				\n					Adam Smith				\n				\n				\n				\n					Founder Envato				\n				\n				\n				\n					In this scenario\, you could see the total combined event count for all three categories in your reports. The Total Events metric displays all event counts for all categories that you have supplied in your implementation. However\, you will not be able to view combined metrics.
URL:https://faceminima.com/event/sheraton-ankara-hotel-convention-center-tulipia-meeting-hall-february-22/
LOCATION:Sheraton Ankara Hotel & Convention Center\, Ankara\, Turkey
CATEGORIES:Event Calendar
ATTACH;FMTTYPE=image/jpeg:https://faceminima.com/wp-content/uploads/2024/12/shrtn-06.jpg
END:VEVENT
BEGIN:VEVENT
DTSTART;TZID=UTC:20250222T053000
DTEND;TZID=UTC:20250222T150000
DTSTAMP:20260421T114451
CREATED:20250102T140451Z
LAST-MODIFIED:20250124T165807Z
UID:4769-1740202200-1740236400@faceminima.com
SUMMARY:Sheraton Ankara Hotel & Convention Center ( Tulipia Toplantı Salonu ) - 23 Şubat
DESCRIPTION:SCIENTIFIC PROGRAM				\n				\n					\n				\n				\n						\n					\n			\n						\n				\n									\n\n\n    \n    \n    Conference Program – February 23\, 2025\n    \n\n\n\n    February 23\, 2025Sheraton Ankara Hotel & Convention Center (Tulipia Meeting Hall)\n\n    \n        \n            08:30 – 09:00\n            SPEECH\n        \n        \n            09:00 – 10:30\n            APPLIED PANEL – EYE CONTOURModerator: Dr. Altuğ Çetinkaya\n        \n        \n            09:00 – 09:30\n            APPLIED – VIDEO – DISCUSSIONDr. Havva Gül Yıldız\n        \n        \n            09:30 – 10:00\n            APPLIED – VIDEO – DISCUSSIONDr. Gökçe Özel\n        \n        \n            10:00 – 10:30\n            APPLIED – VIDEO – DISCUSSIONDr. Altuğ Çetinkaya\n        \n        \n            COFFEE BREAK\n        \n        \n            11:00 – 12:30\n            APPLIED PANEL — LOWER FACE AND JAWModerator: Dr. Betül Şahin\n        \n        \n            11:00 – 11:30\n            APPLIED – VIDEO – DISCUSSIONDr. Tevfik Sözen\n        \n        \n            11:30 – 12:00\n            APPLIED – VIDEO – DISCUSSIONDr. Betül Şahin\n        \n        \n            12:00 – 12:30\n            APPLIED – VIDEO – DISCUSSIONDr. Taşkın Yücel\n        \n        \n            LUNCH\n        \n        \n            13:30 – 15:00\n            MINOR SURGICAL APPLICATIONS ON THE FACE\n        \n        \n            13:30 – 14:00\n            Dr. Tevfik Sözen: LIP LIFT\n        \n        \n            14:00 – 14:30\n            Dr. Taşkın Yücel: BISHECTOMY\n        \n        \n            14:30 – 15:00\n            Dr. Betül Şahin: APPROACH TO SAGGING NECK IN OFFICE\n        \n        \n            COFFEE BREAK\n        \n        \n            15:30 – 16:00\n            RATIONAL DRUG USEDr. Gökçe Özel\n        \n    \n\n\n\n								\n				\n					\n		\n					\n		\n				\n						\n					\n			\n						\n						\n					\n			\n						\n				\n																														\n				\n					\n		\n				\n			\n						\n				\n					Adam Smith				\n				\n				\n				\n					Founder Envato				\n				\n				\n				\n					In this scenario\, you could see the total combined event count for all three categories in your reports. The Total Events metric displays all event counts for all categories that you have supplied in your implementation. However\, you will not be able to view combined metrics.
URL:https://faceminima.com/event/sheraton-ankara-hotel-convention-center-tulipia-toplanti-salonu-23-subat/
LOCATION:Sheraton Ankara Hotel & Convention Center\, Ankara\, Turkey
CATEGORIES:Event Calendar
ATTACH;FMTTYPE=image/jpeg:https://faceminima.com/wp-content/uploads/2024/12/shrtn-06.jpg
END:VEVENT
BEGIN:VEVENT
DTSTART;TZID=UTC:20250222T053000
DTEND;TZID=UTC:20250222T150000
DTSTAMP:20260421T114451
CREATED:20250102T134533Z
LAST-MODIFIED:20250124T165701Z
UID:4753-1740202200-1740236400@faceminima.com
SUMMARY:Sheraton Ankara Hotel & Convention Center ( Tulipia Toplantı Salonu ) - 22 Şubat
DESCRIPTION:SCIENTIFIC PROGRAM				\n				\n					\n				\n				\n						\n					\n			\n						\n				\n									\n\n\n    \n    \n    Conference Program – February 23\, 2025\n    \n\n\n\n    February 23\, 2025Sheraton Ankara Hotel & Convention Center (Tulipia Meeting Hall)\n\n    \n        \n            08:30 – 09:00\n            SPEECH\n        \n        \n            09:00 – 10:30\n            APPLIED PANEL – EYE CONTOURModerator: Dr. Altuğ Çetinkaya\n        \n        \n            09:00 – 09:30\n            APPLIED – VIDEO – DISCUSSIONDr. Havva Gül Yıldız\n        \n        \n            09:30 – 10:00\n            APPLIED – VIDEO – DISCUSSIONDr. Gökçe Özel\n        \n        \n            10:00 – 10:30\n            APPLIED – VIDEO – DISCUSSIONDr. Altuğ Çetinkaya\n        \n        \n            COFFEE BREAK\n        \n        \n            11:00 – 12:30\n            APPLIED PANEL — LOWER FACE AND JAWModerator: Dr. Betül Şahin\n        \n        \n            11:00 – 11:30\n            APPLIED – VIDEO – DISCUSSIONDr. Tevfik Sözen\n        \n        \n            11:30 – 12:00\n            APPLIED – VIDEO – DISCUSSIONDr. Betül Şahin\n        \n        \n            12:00 – 12:30\n            APPLIED – VIDEO – DISCUSSIONDr. Taşkın Yücel\n        \n        \n            LUNCH\n        \n        \n            13:30 – 15:00\n            MINOR SURGICAL APPLICATIONS ON THE FACE\n        \n        \n            13:30 – 14:00\n            Dr. Tevfik Sözen: LIP LIFT\n        \n        \n            14:00 – 14:30\n            Dr. Taşkın Yücel: BISHECTOMY\n        \n        \n            14:30 – 15:00\n            Dr. Betül Şahin: APPROACH TO SAGGING NECK IN OFFICE\n        \n        \n            COFFEE BREAK\n        \n        \n            15:30 – 16:00\n            RATIONAL DRUG USEDr. Gökçe Özel\n        \n    \n\n\n\n								\n				\n					\n		\n					\n		\n				\n						\n					\n			\n						\n						\n					\n			\n						\n				\n																														\n				\n					\n		\n				\n			\n						\n				\n					Adam Smith				\n				\n				\n				\n					Founder Envato				\n				\n				\n				\n					In this scenario\, you could see the total combined event count for all three categories in your reports. The Total Events metric displays all event counts for all categories that you have supplied in your implementation. However\, you will not be able to view combined metrics.
URL:https://faceminima.com/event/sheraton-ankara-hotel-convention-center-tulipia-toplanti-salonu-22-subat/
LOCATION:Sheraton Ankara Hotel & Convention Center\, Ankara\, Turkey
CATEGORIES:Event Calendar
ATTACH;FMTTYPE=image/jpeg:https://faceminima.com/wp-content/uploads/2024/12/shrtn-06.jpg
END:VEVENT
BEGIN:VEVENT
DTSTART;TZID=UTC:20250221T053000
DTEND;TZID=UTC:20250221T153000
DTSTAMP:20260421T114451
CREATED:20250121T104840Z
LAST-MODIFIED:20250124T164749Z
UID:4990-1740115800-1740151800@faceminima.com
SUMMARY:Sheraton Ankara Hotel & Convention Center ( Tulipia Meeting Hall ) - February 21
DESCRIPTION:SCIENTIFIC PROGRAM				\n				\n					\n				\n				\n						\n					\n			\n						\n				\n									\n\n\n    \n    \n    Conference Program – February 23\, 2025\n    \n\n\n\n    February 23\, 2025Sheraton Ankara Hotel & Convention Center (Tulipia Meeting Hall)\n\n    \n        \n            08:30 – 09:00\n            SPEECH\n        \n        \n            09:00 – 10:30\n            APPLIED PANEL – EYE CONTOURModerator: Dr. Altuğ Çetinkaya\n        \n        \n            09:00 – 09:30\n            APPLIED – VIDEO – DISCUSSIONDr. Havva Gül Yıldız\n        \n        \n            09:30 – 10:00\n            APPLIED – VIDEO – DISCUSSIONDr. Gökçe Özel\n        \n        \n            10:00 – 10:30\n            APPLIED – VIDEO – DISCUSSIONDr. Altuğ Çetinkaya\n        \n        \n            COFFEE BREAK\n        \n        \n            11:00 – 12:30\n            APPLIED PANEL — LOWER FACE AND JAWModerator: Dr. Betül Şahin\n        \n        \n            11:00 – 11:30\n            APPLIED – VIDEO – DISCUSSIONDr. Tevfik Sözen\n        \n        \n            11:30 – 12:00\n            APPLIED – VIDEO – DISCUSSIONDr. Betül Şahin\n        \n        \n            12:00 – 12:30\n            APPLIED – VIDEO – DISCUSSIONDr. Taşkın Yücel\n        \n        \n            LUNCH\n        \n        \n            13:30 – 15:00\n            MINOR SURGICAL APPLICATIONS ON THE FACE\n        \n        \n            13:30 – 14:00\n            Dr. Tevfik Sözen: LIP LIFT\n        \n        \n            14:00 – 14:30\n            Dr. Taşkın Yücel: BISHECTOMY\n        \n        \n            14:30 – 15:00\n            Dr. Betül Şahin: APPROACH TO SAGGING NECK IN OFFICE\n        \n        \n            COFFEE BREAK\n        \n        \n            15:30 – 16:00\n            RATIONAL DRUG USEDr. Gökçe Özel\n        \n    \n\n\n\n								\n				\n					\n		\n					\n		\n				\n						\n					\n			\n						\n						\n					\n			\n						\n				\n																														\n				\n					\n		\n				\n			\n						\n				\n					Adam Smith				\n				\n				\n				\n					Founder Envato				\n				\n				\n				\n					In this scenario\, you could see the total combined event count for all three categories in your reports. The Total Events metric displays all event counts for all categories that you have supplied in your implementation. However\, you will not be able to view combined metrics.
URL:https://faceminima.com/event/sheraton-ankara-hotel-convention-center-tulipia-meeting-hall-february-21/
LOCATION:Sheraton Ankara Hotel & Convention Center\, Ankara\, Turkey
CATEGORIES:Event Calendar
ATTACH;FMTTYPE=image/jpeg:https://faceminima.com/wp-content/uploads/2024/12/shrtn-06.jpg
END:VEVENT
BEGIN:VEVENT
DTSTART;TZID=UTC:20250221T053000
DTEND;TZID=UTC:20250221T153000
DTSTAMP:20260421T114451
CREATED:20220328T123222Z
LAST-MODIFIED:20250124T165408Z
UID:1049-1740115800-1740151800@faceminima.com
SUMMARY:Sheraton Ankara Hotel & Convention Center ( Tulipia Toplantı Salonu ) - 21 Şubat
DESCRIPTION:SCIENTIFIC PROGRAM				\n				\n					\n				\n				\n						\n					\n			\n						\n				\n									\n\n\n    \n    \n    Conference Program – February 23\, 2025\n    \n\n\n\n    February 23\, 2025Sheraton Ankara Hotel & Convention Center (Tulipia Meeting Hall)\n\n    \n        \n            08:30 – 09:00\n            SPEECH\n        \n        \n            09:00 – 10:30\n            APPLIED PANEL – EYE CONTOURModerator: Dr. Altuğ Çetinkaya\n        \n        \n            09:00 – 09:30\n            APPLIED – VIDEO – DISCUSSIONDr. Havva Gül Yıldız\n        \n        \n            09:30 – 10:00\n            APPLIED – VIDEO – DISCUSSIONDr. Gökçe Özel\n        \n        \n            10:00 – 10:30\n            APPLIED – VIDEO – DISCUSSIONDr. Altuğ Çetinkaya\n        \n        \n            COFFEE BREAK\n        \n        \n            11:00 – 12:30\n            APPLIED PANEL — LOWER FACE AND JAWModerator: Dr. Betül Şahin\n        \n        \n            11:00 – 11:30\n            APPLIED – VIDEO – DISCUSSIONDr. Tevfik Sözen\n        \n        \n            11:30 – 12:00\n            APPLIED – VIDEO – DISCUSSIONDr. Betül Şahin\n        \n        \n            12:00 – 12:30\n            APPLIED – VIDEO – DISCUSSIONDr. Taşkın Yücel\n        \n        \n            LUNCH\n        \n        \n            13:30 – 15:00\n            MINOR SURGICAL APPLICATIONS ON THE FACE\n        \n        \n            13:30 – 14:00\n            Dr. Tevfik Sözen: LIP LIFT\n        \n        \n            14:00 – 14:30\n            Dr. Taşkın Yücel: BISHECTOMY\n        \n        \n            14:30 – 15:00\n            Dr. Betül Şahin: APPROACH TO SAGGING NECK IN OFFICE\n        \n        \n            COFFEE BREAK\n        \n        \n            15:30 – 16:00\n            RATIONAL DRUG USEDr. Gökçe Özel\n        \n    \n\n\n\n								\n				\n					\n		\n					\n		\n				\n						\n					\n			\n						\n						\n					\n			\n						\n				\n																														\n				\n					\n		\n				\n			\n						\n				\n					Adam Smith				\n				\n				\n				\n					Founder Envato				\n				\n				\n				\n					In this scenario\, you could see the total combined event count for all three categories in your reports. The Total Events metric displays all event counts for all categories that you have supplied in your implementation. However\, you will not be able to view combined metrics.
URL:https://faceminima.com/event/sheraton-ankara-hotel-convention-center-tulipia-toplanti-salonu/
LOCATION:Sheraton Ankara Hotel & Convention Center\, Ankara\, Turkey
CATEGORIES:Event Calendar
ATTACH;FMTTYPE=image/jpeg:https://faceminima.com/wp-content/uploads/2024/12/shrtn-06.jpg
END:VEVENT
END:VCALENDAR